
BEGIN:VCALENDAR
VERSION:2.0
PRODID:-//MarkedsPartner AS//Umbraco CMS//NO
TIMEZONE-ID:Europe/Oslo
X-WR-TIMEZONE:Europe/Oslo


BEGIN:VEVENT
UID:887d1fb41fa94dc4bffc1645fd24e60e
URL:https://stavangernaering-2023.azurewebsites.net/en/events/archive/morning-connections_well-being-mars23/
ORGANIZER;CN=Ola Normann:MAILTO:ola.normann@markedspartner.no
DTSTAMP:20230314T073000Z
DTSTART:20230314T073000Z
DTEND:20230314T093000Z
LAST-MODIFIED:20230314T195318Z
SUMMARY:Morning Connection: Well-being
DESCRIPTION:95 % off the serotonin you body produces is made in your intestines, how can what you eat effect your emotions? and the importance of teaching our children about well-being are a few of the subject Maria Paola from Lærdal Medical will address at ISS.
X-ALT-DESC:95 % off the serotonin you body produces is made in your intestines, how can what you eat effect your emotions? and the importance of teaching our children about well-being are a few of the subject Maria Paola from L&#230;rdal Medical will address at ISS.
LOCATION:ISS, Treskeveien 3, 4043 Hafrsfjord
END:VEVENT


END:VCALENDAR



