
BEGIN:VCALENDAR
VERSION:2.0
PRODID:-//MarkedsPartner AS//Umbraco CMS//NO
TIMEZONE-ID:Europe/Oslo
X-WR-TIMEZONE:Europe/Oslo


BEGIN:VEVENT
UID:bcc989ac4ddf40e8b43d588523fe5c9a
URL:https://stavangernaering-2023.azurewebsites.net/en/events/archive/morning-connections_sept24/
ORGANIZER;CN=Ola Normann:MAILTO:ola.normann@markedspartner.no
DTSTAMP:20240924T064000Z
DTSTART:20240924T064000Z
DTEND:20240924T083000Z
LAST-MODIFIED:20240924T105526Z
SUMMARY:Morning Connections: Possibilities in the region 
DESCRIPTION:The first Morning Connections of this school year will be about possibilities in the region. Covering everything from useful networks, activities and outdoor opportunities for families with children.
X-ALT-DESC:The first Morning Connections of this school year will be about possibilities in the region. Covering everything from useful networks, activities and outdoor opportunities for families with children.
LOCATION:ISS, Treskeveien 3, 4043 Hafrsfjord
END:VEVENT


END:VCALENDAR



