
BEGIN:VCALENDAR
VERSION:2.0
PRODID:-//MarkedsPartner AS//Umbraco CMS//NO
TIMEZONE-ID:Europe/Oslo
X-WR-TIMEZONE:Europe/Oslo


BEGIN:VEVENT
UID:c9623447d2b146e58a428facc1970ec6
URL:https://stavangernaering-2023.azurewebsites.net/en/events/archive/morning-connections_sept23/
ORGANIZER;CN=Ola Normann:MAILTO:ola.normann@markedspartner.no
DTSTAMP:20230926T064000Z
DTSTART:20230926T064000Z
DTEND:20230926T083000Z
LAST-MODIFIED:20230929T060323Z
SUMMARY:Morning Connections: Stavanger region 
DESCRIPTION:Possibilities in the region, covering everything from useful networks, library services, activities and outdoor opportunities for families with children.
X-ALT-DESC:Possibilities in the region, covering everything from useful networks, library services, activities and outdoor opportunities for families with children.
LOCATION:ISS, Treskeveien 3, 4043 Hafrsfjord
END:VEVENT


END:VCALENDAR



