
BEGIN:VCALENDAR
VERSION:2.0
PRODID:-//MarkedsPartner AS//Umbraco CMS//NO
TIMEZONE-ID:Europe/Oslo
X-WR-TIMEZONE:Europe/Oslo


BEGIN:VEVENT
UID:b8e36930fe594a9193a78b24b9b76876
URL:https://stavangernaering-2023.azurewebsites.net/en/events/archive/morning-connections_region-stavanger_mai23/
ORGANIZER;CN=Ola Normann:MAILTO:ola.normann@markedspartner.no
DTSTAMP:20230523T064000Z
DTSTART:20230523T064000Z
DTEND:20230523T083000Z
LAST-MODIFIED:20230524T091613Z
SUMMARY:Morning Connections: Explore the Stavanger Region 
DESCRIPTION:Welcome to the Edge of Norway! How to explore the Stavanger region in 2023 @ISS
X-ALT-DESC:Welcome to the Edge of Norway! How to explore the Stavanger region in 2023 @ISS
LOCATION:ISS, Treskeveien 3, 4043 Hafrsfjord
END:VEVENT


END:VCALENDAR



