
BEGIN:VCALENDAR
VERSION:2.0
PRODID:-//MarkedsPartner AS//Umbraco CMS//NO
TIMEZONE-ID:Europe/Oslo
X-WR-TIMEZONE:Europe/Oslo


BEGIN:VEVENT
UID:aade418656094bbf977854da6d72cd77
URL:https://stavangernaering-2023.azurewebsites.net/en/events/archive/morning-connections_nov23/
ORGANIZER;CN=Ola Normann:MAILTO:ola.normann@markedspartner.no
DTSTAMP:20231114T074000Z
DTSTART:20231114T074000Z
DTEND:20231114T093000Z
LAST-MODIFIED:20231115T124621Z
SUMMARY:Morning Connections: Emotional intelligence 
DESCRIPTION:How can we benefit from being aware of our emotional intelligence?
X-ALT-DESC:How can we benefit from being aware of our emotional intelligence?
LOCATION:ISS, Treskeveien 3, 4043 Hafrsfjord
END:VEVENT


END:VCALENDAR



