
BEGIN:VCALENDAR
VERSION:2.0
PRODID:-//MarkedsPartner AS//Umbraco CMS//NO
TIMEZONE-ID:Europe/Oslo
X-WR-TIMEZONE:Europe/Oslo


BEGIN:VEVENT
UID:f10ae9fda23b4fb0b6170270498bdda0
URL:https://stavangernaering-2023.azurewebsites.net/en/events/archive/morning-connections_nov2024/
ORGANIZER;CN=Ola Normann:MAILTO:ola.normann@markedspartner.no
DTSTAMP:20241120T074000Z
DTSTART:20241120T074000Z
DTEND:20241120T093000Z
LAST-MODIFIED:20241122T114526Z
SUMMARY:Morning Connections: Building health, confidence and community
DESCRIPTION:Morning Connections is a supportive parent community and venue for learning about education, parenting, expat life and living in Norway.
X-ALT-DESC:Morning&#160;Connections&#160;is a supportive parent community and venue for learning about education, parenting, expat life and&#160;living in Norway.
LOCATION:ISS, Treskeveien 3, 4043 Hafrsfjord
END:VEVENT


END:VCALENDAR



