
BEGIN:VCALENDAR
VERSION:2.0
PRODID:-//MarkedsPartner AS//Umbraco CMS//NO
TIMEZONE-ID:Europe/Oslo
X-WR-TIMEZONE:Europe/Oslo


BEGIN:VEVENT
UID:e00669389a524ec8a47d5fd8676bee9d
URL:https://stavangernaering-2023.azurewebsites.net/en/events/archive/morning-connections_mar24/
ORGANIZER;CN=Ola Normann:MAILTO:ola.normann@markedspartner.no
DTSTAMP:20240319T074000Z
DTSTART:20240319T074000Z
DTEND:20240319T093000Z
LAST-MODIFIED:20240319T181817Z
SUMMARY:Morning Connections: Stavanger Turistforening
DESCRIPTION:A guided session on Stavanger Turistforening at The international School of Stavanger.
X-ALT-DESC:A guided session on Stavanger Turistforening at The international School of Stavanger.
LOCATION:ISS, Treskeveien 3, 4043 Hafrsfjord
END:VEVENT


END:VCALENDAR



