
BEGIN:VCALENDAR
VERSION:2.0
PRODID:-//MarkedsPartner AS//Umbraco CMS//NO
TIMEZONE-ID:Europe/Oslo
X-WR-TIMEZONE:Europe/Oslo


BEGIN:VEVENT
UID:7d6f0b70800448488c59692d660c6200
URL:https://stavangernaering-2023.azurewebsites.net/en/events/archive/morning-connections_feb24/
ORGANIZER;CN=Ola Normann:MAILTO:ola.normann@markedspartner.no
DTSTAMP:20240202T074000Z
DTSTART:20240202T074000Z
DTEND:20240202T093000Z
LAST-MODIFIED:20240207T184819Z
SUMMARY:Morning Connections: Internet safety 
DESCRIPTION:Ways we can support our children in navigating their online relationships and digital lives
X-ALT-DESC:Ways we can support our children in navigating their online relationships and digital lives
LOCATION:ISS, Treskeveien 3, 4043 Hafrsfjord
END:VEVENT


END:VCALENDAR



