
BEGIN:VCALENDAR
VERSION:2.0
PRODID:-//MarkedsPartner AS//Umbraco CMS//NO
TIMEZONE-ID:Europe/Oslo
X-WR-TIMEZONE:Europe/Oslo


BEGIN:VEVENT
UID:10fac70f67ca448ab1602819af66e58e
URL:https://stavangernaering-2023.azurewebsites.net/en/events/archive/morning-connections_feb23-1/
ORGANIZER;CN=Ola Normann:MAILTO:ola.normann@markedspartner.no
DTSTAMP:20230221T073000Z
DTSTART:20230221T073000Z
DTEND:20230221T093000Z
LAST-MODIFIED:20230511T111648Z
SUMMARY:Morning Connections: Folkehallene
DESCRIPTION:Looking for activities for your children? Look no further. Folkehallene has it all! They offer Norway's widest selection of activities for the entire family.
X-ALT-DESC:Looking for activities for your children? Look no further. Folkehallene has it all! They offer Norway&#39;s widest selection of activities for the entire family.
LOCATION:ISS, Treskeveien 3, 4043 Hafrsfjord
END:VEVENT


END:VCALENDAR



