
BEGIN:VCALENDAR
VERSION:2.0
PRODID:-//MarkedsPartner AS//Umbraco CMS//NO
TIMEZONE-ID:Europe/Oslo
X-WR-TIMEZONE:Europe/Oslo


BEGIN:VEVENT
UID:5f32165ddc024268b21ddc0e215c8a90
URL:https://stavangernaering-2023.azurewebsites.net/en/events/archive/morning-connections_des23/
ORGANIZER;CN=Ola Normann:MAILTO:ola.normann@markedspartner.no
DTSTAMP:20231205T074000Z
DTSTART:20231205T074000Z
DTEND:20231205T093000Z
LAST-MODIFIED:20231207T081351Z
SUMMARY:Morning Connections: Well-being in Winter
DESCRIPTION:Mental Health for Adults and Students as the dark winter season is upon us.
X-ALT-DESC:Mental Health for Adults and Students as the dark winter season is upon us.
LOCATION:ISS, Treskeveien 3, 4043 Hafrsfjord
END:VEVENT


END:VCALENDAR



