
BEGIN:VCALENDAR
VERSION:2.0
PRODID:-//MarkedsPartner AS//Umbraco CMS//NO
TIMEZONE-ID:Europe/Oslo
X-WR-TIMEZONE:Europe/Oslo


BEGIN:VEVENT
UID:15d08ade5e4d44b7b6cca4a6afab9b35
URL:https://stavangernaering-2023.azurewebsites.net/en/events/archive/morning-connections_apr24/
ORGANIZER;CN=Ola Normann:MAILTO:ola.normann@markedspartner.no
DTSTAMP:20240522T064000Z
DTSTART:20240522T064000Z
DTEND:20240522T083000Z
LAST-MODIFIED:20240523T124732Z
SUMMARY:Morning Connections: Expat Family living 
DESCRIPTION:Adjusting as a family, parenting in a new environment and maintaining couple dynamics are the subject for this session at ISS.
X-ALT-DESC:Adjusting as a family, parenting in a new environment and maintaining couple dynamics are the subject for this session at ISS.
LOCATION:ISS, Treskeveien 3, 4043 Hafrsfjord
END:VEVENT


END:VCALENDAR



