
BEGIN:VCALENDAR
VERSION:2.0
PRODID:-//MarkedsPartner AS//Umbraco CMS//NO
TIMEZONE-ID:Europe/Oslo
X-WR-TIMEZONE:Europe/Oslo


BEGIN:VEVENT
UID:8df9889be0a04c458c004a5e9e67806e
URL:https://stavangernaering-2023.azurewebsites.net/en/events/archive/morning-connections_290425/
ORGANIZER;CN=Ola Normann:MAILTO:ola.normann@markedspartner.no
DTSTAMP:20250429T064000Z
DTSTART:20250429T064000Z
DTEND:20250429T083000Z
LAST-MODIFIED:20250504T180828Z
SUMMARY:Morning Connections: Coping with change 
DESCRIPTION:Frequent moves, change and cultural shifts are part of life in international school communities. While these transitions can be exciting, they can also bring emotional challenges for children and families—such as uncertainty, loss, or difficulty adjusting. As a parent, your support is essential. This presentation will explore practical strategies to help your child manage change with resilience.
X-ALT-DESC:Frequent moves, change and cultural shifts are part of life in international school communities. While these transitions can be exciting, they can also bring emotional challenges for children and families—such as uncertainty, loss, or difficulty adjusting. As a parent, your support is essential. This presentation will explore practical strategies to help your child manage change with resilience.
LOCATION:ISS, Treskeveien 3, 4043 Hafrsfjord
END:VEVENT


END:VCALENDAR



