
BEGIN:VCALENDAR
VERSION:2.0
PRODID:-//MarkedsPartner AS//Umbraco CMS//NO
TIMEZONE-ID:Europe/Oslo
X-WR-TIMEZONE:Europe/Oslo


BEGIN:VEVENT
UID:b2023aa5e6904583afe3993b07a8c1e8
URL:https://stavangernaering-2023.azurewebsites.net/en/events/archive/morning-connections_210125/
ORGANIZER;CN=Ola Normann:MAILTO:ola.normann@markedspartner.no
DTSTAMP:20250121T074000Z
DTSTART:20250121T074000Z
DTEND:20250121T093000Z
LAST-MODIFIED:20250121T121704Z
SUMMARY:Morning Connections: Screen time management 
DESCRIPTION:This session will share insights on the subject Impact of Screen Time on Children and How to Manage their Screen Time.
X-ALT-DESC:This session will share insights on the subject Impact of Screen Time on Children and How to Manage their Screen Time.
LOCATION:ISS, Treskeveien 3, 4043 Hafrsfjord
END:VEVENT


END:VCALENDAR



