
BEGIN:VCALENDAR
VERSION:2.0
PRODID:-//MarkedsPartner AS//Umbraco CMS//NO
TIMEZONE-ID:Europe/Oslo
X-WR-TIMEZONE:Europe/Oslo


BEGIN:VEVENT
UID:ccb08959ed894708809a1eeb758d07f5
URL:https://stavangernaering-2023.azurewebsites.net/en/events/archive/morning-connections_180225/
ORGANIZER;CN=Ola Normann:MAILTO:ola.normann@markedspartner.no
DTSTAMP:20250218T074000Z
DTSTART:20250218T074000Z
DTEND:20250218T093000Z
LAST-MODIFIED:20250218T181038Z
SUMMARY:Morning Connections: Neurodiversity
DESCRIPTION:Morning Connections is a supportive parent community and venue for learning about education, parenting, expat life and living in Norway.
X-ALT-DESC:Morning&#160;Connections&#160;is a supportive parent community and venue for learning about education, parenting, expat life and&#160;living in Norway.
LOCATION:ISS, Treskeveien 3, 4043 Hafrsfjord
END:VEVENT


END:VCALENDAR



