
BEGIN:VCALENDAR
VERSION:2.0
PRODID:-//MarkedsPartner AS//Umbraco CMS//NO
TIMEZONE-ID:Europe/Oslo
X-WR-TIMEZONE:Europe/Oslo


BEGIN:VEVENT
UID:66fe246fbb174a2bba2e226a67f32479
URL:https://stavangernaering-2023.azurewebsites.net/en/events/archive/morning-connection_april23/
ORGANIZER;CN=Ola Normann:MAILTO:ola.normann@markedspartner.no
DTSTAMP:20230426T064000Z
DTSTART:20230426T064000Z
DTEND:20230426T080000Z
LAST-MODIFIED:20230428T071321Z
SUMMARY:Morning Connection: AI session 
DESCRIPTION:What is AI and how will it impact my children’s education?
X-ALT-DESC:What is AI and how will it impact my children’s education?
LOCATION:ISS, Treskeveien 3, 4043 Hafrsfjord
END:VEVENT


END:VCALENDAR



