
BEGIN:VCALENDAR
VERSION:2.0
PRODID:-//MarkedsPartner AS//Umbraco CMS//NO
TIMEZONE-ID:Europe/Oslo
X-WR-TIMEZONE:Europe/Oslo


BEGIN:VEVENT
UID:1bf927d197a9479fb98d1b5f1e455a9c
URL:https://stavangernaering-2023.azurewebsites.net/en/events/archive/misunderstood-hidden-challenges-of-communication/
ORGANIZER;CN=Ola Normann:MAILTO:ola.normann@markedspartner.no
DTSTAMP:20240625T160000Z
DTSTART:20240625T160000Z
DTEND:20240625T173000Z
LAST-MODIFIED:20240628T073318Z
SUMMARY:Hidden challenges of communication
DESCRIPTION:Do you ever feel like you are misunderstood? Or is it sometimes hard to say what you want at work or with people around you? If your answer to either of these questions is yes, this event is for you.
X-ALT-DESC:Do you ever feel like you are misunderstood? Or is it sometimes hard to say what you want at work or with people around you? If your answer to either of these questions is yes, this event is for you.
LOCATION:Rosenkildehuset
END:VEVENT


END:VCALENDAR



