
BEGIN:VCALENDAR
VERSION:2.0
PRODID:-//MarkedsPartner AS//Umbraco CMS//NO
TIMEZONE-ID:Europe/Oslo
X-WR-TIMEZONE:Europe/Oslo


BEGIN:VEVENT
UID:5c79f24924c24d82a9f10f960065b796
URL:https://stavangernaering-2023.azurewebsites.net/en/events/archive/may17th-2025/
ORGANIZER;CN=Ola Normann:MAILTO:ola.normann@markedspartner.no
DTSTAMP:20250517T074500Z
DTSTART:20250517T074500Z
DTEND:20250517T114500Z
LAST-MODIFIED:20250520T065543Z
SUMMARY:May 17th celebration
DESCRIPTION:Hipp hipp hurra! Let´s celebrate the Norwegian constitution day.
X-ALT-DESC:Hipp hipp hurra! Let&#180;s celebrate the Norwegian constitution day.
LOCATION:Rosenkildehuset
END:VEVENT


END:VCALENDAR



