
BEGIN:VCALENDAR
VERSION:2.0
PRODID:-//MarkedsPartner AS//Umbraco CMS//NO
TIMEZONE-ID:Europe/Oslo
X-WR-TIMEZONE:Europe/Oslo


BEGIN:VEVENT
UID:fb74da4deada474d9ec3dd6d9fe02105
URL:https://stavangernaering-2023.azurewebsites.net/en/events/archive/may17th-2024/
ORGANIZER;CN=Ola Normann:MAILTO:ola.normann@markedspartner.no
DTSTAMP:20240517T074500Z
DTSTART:20240517T074500Z
DTEND:20240517T114500Z
LAST-MODIFIED:20240521T054134Z
SUMMARY:May 17th celebration
DESCRIPTION:Hipp hipp hurra! Come see how we celebrate the Norwegian constitution day.
X-ALT-DESC:Hipp hipp hurra! Come see how we celebrate the Norwegian constitution day.
LOCATION:Rosenkildehuset
END:VEVENT


END:VCALENDAR



