
BEGIN:VCALENDAR
VERSION:2.0
PRODID:-//MarkedsPartner AS//Umbraco CMS//NO
TIMEZONE-ID:Europe/Oslo
X-WR-TIMEZONE:Europe/Oslo


BEGIN:VEVENT
UID:86954cae5a4842e087ca1b8ca2c612f0
URL:https://stavangernaering-2023.azurewebsites.net/en/events/archive/may17th-2023/
ORGANIZER;CN=Ola Normann:MAILTO:ola.normann@markedspartner.no
DTSTAMP:20230517T100000Z
DTSTART:20230517T100000Z
DTEND:20230517T140000Z
LAST-MODIFIED:20240404T091910Z
SUMMARY:May 17th celebration
DESCRIPTION:Hipp hipp hurra! Come see how we celebrate the Norwegian constitution day.
X-ALT-DESC:Hipp hipp hurra! Come see how we celebrate the Norwegian constitution day.
LOCATION:Rosenkildehuset
END:VEVENT


END:VCALENDAR



