
BEGIN:VCALENDAR
VERSION:2.0
PRODID:-//MarkedsPartner AS//Umbraco CMS//NO
TIMEZONE-ID:Europe/Oslo
X-WR-TIMEZONE:Europe/Oslo


BEGIN:VEVENT
UID:3327c322fa4b42aaae440e0c22ab6906
URL:https://stavangernaering-2023.azurewebsites.net/en/events/archive/may-17th_2022/
ORGANIZER;CN=Ola Normann:MAILTO:ola.normann@markedspartner.no
DTSTAMP:20220517T074000Z
DTSTART:20220517T074000Z
DTEND:20220517T124000Z
LAST-MODIFIED:20220519T072223Z
SUMMARY:May 17th
DESCRIPTION:Are you new in town and would like to celebrate Norway´s national day together with someone else?  Sign up here!
X-ALT-DESC:Are you new in town and would like to celebrate Norway&#180;s national day together with someone else?  Sign up here!
LOCATION:Rosenkildehuset, Strandkaien 6, 4005 Stavanger
END:VEVENT


END:VCALENDAR



