
BEGIN:VCALENDAR
VERSION:2.0
PRODID:-//MarkedsPartner AS//Umbraco CMS//NO
TIMEZONE-ID:Europe/Oslo
X-WR-TIMEZONE:Europe/Oslo


BEGIN:VEVENT
UID:37d84fd2b2824b4cbd20669f49fa7435
URL:https://stavangernaering-2023.azurewebsites.net/en/events/archive/maintaining-home_jun25/
ORGANIZER;CN=Ola Normann:MAILTO:ola.normann@markedspartner.no
DTSTAMP:20250603T160000Z
DTSTART:20250603T160000Z
DTEND:20250603T180000Z
LAST-MODIFIED:20250604T114442Z
SUMMARY:Maintaining a Norwegian house
DESCRIPTION:Join us for an informal event in Inger Tones back yard to learn some tips and tricks on how to maintain a traditional Norwegian home!
X-ALT-DESC:Join us for an informal event in Inger Tones back yard to learn some tips and tricks on how to maintain a traditional Norwegian home!
LOCATION:Stokka, Stavanger
END:VEVENT


END:VCALENDAR



