
BEGIN:VCALENDAR
VERSION:2.0
PRODID:-//MarkedsPartner AS//Umbraco CMS//NO
TIMEZONE-ID:Europe/Oslo
X-WR-TIMEZONE:Europe/Oslo


BEGIN:VEVENT
UID:d94d5bb64fdb46d1a82993ce7a5113b9
URL:https://stavangernaering-2023.azurewebsites.net/en/events/archive/maintaining-a-norwegian-home_jun25/
ORGANIZER;CN=Ola Normann:MAILTO:ola.normann@markedspartner.no
DTSTAMP:20240528T160000Z
DTSTART:20240528T160000Z
DTEND:20240528T180000Z
LAST-MODIFIED:20250311T144256Z
SUMMARY:Maintaining a Norwegian house
DESCRIPTION:Join us for an informal event in Inger Tones back yard to learn some tips and tricks on how to maintain a traditional Norwegian home!
X-ALT-DESC:Join us for an informal event in Inger Tones back yard to learn some tips and tricks on how to maintain a traditional Norwegian home!
LOCATION:Stokka, Stavanger
END:VEVENT


END:VCALENDAR



