
BEGIN:VCALENDAR
VERSION:2.0
PRODID:-//MarkedsPartner AS//Umbraco CMS//NO
TIMEZONE-ID:Europe/Oslo
X-WR-TIMEZONE:Europe/Oslo


BEGIN:VEVENT
UID:ed5279e9fdbd4f208c3090807e2e3b8e
URL:https://stavangernaering-2023.azurewebsites.net/en/events/archive/maintaining-a-norwegian-home_2023/
ORGANIZER;CN=Ola Normann:MAILTO:ola.normann@markedspartner.no
DTSTAMP:20230607T163000Z
DTSTART:20230607T163000Z
DTEND:20230607T183000Z
LAST-MODIFIED:20230609T105324Z
SUMMARY:How to maintain a traditional Norwegian house
DESCRIPTION:Join us for an informal event in Inger Tones back yard to learn some tips and tricks on how to maintain a traditional Norwegian home!
X-ALT-DESC:Join us for an informal event in Inger Tones back yard to learn some tips and tricks on how to maintain a traditional Norwegian home!
LOCATION:Stokka, Stavanger
END:VEVENT


END:VCALENDAR



