
BEGIN:VCALENDAR
VERSION:2.0
PRODID:-//MarkedsPartner AS//Umbraco CMS//NO
TIMEZONE-ID:Europe/Oslo
X-WR-TIMEZONE:Europe/Oslo


BEGIN:VEVENT
UID:657a484048104d4b82047e7818924056
URL:https://stavangernaering-2023.azurewebsites.net/en/events/archive/maintaining-a-norwegian-home_2022/
ORGANIZER;CN=Ola Normann:MAILTO:ola.normann@markedspartner.no
DTSTAMP:20220608T163000Z
DTSTART:20220608T163000Z
DTEND:20220608T183000Z
LAST-MODIFIED:20220612T072532Z
SUMMARY:How to maintain a traditional Norwegian house
DESCRIPTION:Join Inger Tone and her family for an informal event at their private property to learn some tips and tricks on how to maintain a traditional Norwegian home.
X-ALT-DESC:Join Inger Tone and her family for an informal event at their private property to learn some tips and tricks on how to maintain a traditional Norwegian home.
LOCATION:Stokka, Stavanger
END:VEVENT


END:VCALENDAR



