
BEGIN:VCALENDAR
VERSION:2.0
PRODID:-//MarkedsPartner AS//Umbraco CMS//NO
TIMEZONE-ID:Europe/Oslo
X-WR-TIMEZONE:Europe/Oslo


BEGIN:VEVENT
UID:80eaa08f1c964e2fa6ee12912001308a
URL:https://stavangernaering-2023.azurewebsites.net/en/events/archive/maintaining-a-norwegian-home/
ORGANIZER;CN=Ola Normann:MAILTO:ola.normann@markedspartner.no
DTSTAMP:20210608T163000Z
DTSTART:20210608T163000Z
DTEND:20210608T183000Z
LAST-MODIFIED:20210609T071622Z
SUMMARY:How to maintain a traditional Norwegian house
DESCRIPTION:Join Inger Tone and her family for an informal event at their private property to learn some tips and tricks on how to maintain a traditional Norwegian home.
X-ALT-DESC:Join Inger Tone and her family for an informal event at their private property to learn some tips and tricks on how to maintain a traditional Norwegian home.
LOCATION:Stokka, Stavanger
END:VEVENT


END:VCALENDAR



