
BEGIN:VCALENDAR
VERSION:2.0
PRODID:-//MarkedsPartner AS//Umbraco CMS//NO
TIMEZONE-ID:Europe/Oslo
X-WR-TIMEZONE:Europe/Oslo


BEGIN:VEVENT
UID:5602bdd7836347b8be1c9f21d3f1737d
URL:https://stavangernaering-2023.azurewebsites.net/en/events/archive/livestream-with-amcham_180520/
ORGANIZER;CN=Ola Normann:MAILTO:ola.normann@markedspartner.no
DTSTAMP:20200518T120000Z
DTSTART:20200518T120000Z
DTEND:20200518T124500Z
LAST-MODIFIED:20200612T113332Z
SUMMARY:Livestream with author Nick Morgan: Can you hear me?
DESCRIPTION:As our personal and professional lives now depend on technologies that enable us to communicate, we need a new set of rules for how to effectively connect with people when we can’t do so in person.
X-ALT-DESC:As our personal and professional lives now depend on technologies that enable us to communicate, we need a new set of rules for how to effectively connect with people when we can’t do so in person.
LOCATION:Livestream
END:VEVENT


END:VCALENDAR



