
BEGIN:VCALENDAR
VERSION:2.0
PRODID:-//MarkedsPartner AS//Umbraco CMS//NO
TIMEZONE-ID:Europe/Oslo
X-WR-TIMEZONE:Europe/Oslo


BEGIN:VEVENT
UID:091df2f2380b479a902e87e7d5ef2f00
URL:https://stavangernaering-2023.azurewebsites.net/en/events/archive/linkedin_february2022/
ORGANIZER;CN=Ola Normann:MAILTO:ola.normann@markedspartner.no
DTSTAMP:20220215T100000Z
DTSTART:20220215T100000Z
DTEND:20220215T110000Z
LAST-MODIFIED:20220216T113909Z
SUMMARY:How to build a network on LinkedIn
DESCRIPTION:Being in a new country during a pandemic is not the best odds for building a network. Either you are looking for a job, og just looking for a broader network, being active and improving your linkedin account can be a gold mine.
X-ALT-DESC:Being in a new country during a pandemic is not the best odds for building a network. Either you are looking for a job, og just looking for a broader network, being active and improving your linkedin account can be a gold mine.
LOCATION:Virtual conference
END:VEVENT


END:VCALENDAR



