
BEGIN:VCALENDAR
VERSION:2.0
PRODID:-//MarkedsPartner AS//Umbraco CMS//NO
TIMEZONE-ID:Europe/Oslo
X-WR-TIMEZONE:Europe/Oslo


BEGIN:VEVENT
UID:e0e2063b49864b3d8e1f424585f1680c
URL:https://stavangernaering-2023.azurewebsites.net/en/events/archive/linkedin140520/
ORGANIZER;CN=Ola Normann:MAILTO:ola.normann@markedspartner.no
DTSTAMP:20200514T180000Z
DTSTART:20200514T180000Z
DTEND:20200514T184500Z
LAST-MODIFIED:20200612T113332Z
SUMMARY:Make Your LinkedIn Profile Stand Out
DESCRIPTION:Get the LinkedIn profile and personal brand that you deserve.
X-ALT-DESC:Get the LinkedIn profile and personal brand that you deserve.
LOCATION:Online
END:VEVENT


END:VCALENDAR



