
BEGIN:VCALENDAR
VERSION:2.0
PRODID:-//MarkedsPartner AS//Umbraco CMS//NO
TIMEZONE-ID:Europe/Oslo
X-WR-TIMEZONE:Europe/Oslo


BEGIN:VEVENT
UID:5605c5463b73445d946ceaddae1fd0ae
URL:https://stavangernaering-2023.azurewebsites.net/en/events/archive/linkedin-sep_2022/
ORGANIZER;CN=Ola Normann:MAILTO:ola.normann@markedspartner.no
DTSTAMP:20220930T073000Z
DTSTART:20220930T073000Z
DTEND:20220930T083000Z
LAST-MODIFIED:20220930T124916Z
SUMMARY:Get the LinkedIn profile that stands out!
DESCRIPTION:With a present and personal branding on LinkedIn you can get the job you want, a network that keeps on growing or perhaps a seat on the board in an inspiring company.
X-ALT-DESC:With a present and personal branding on LinkedIn you can get the job you want, a network that keeps on growing or perhaps a seat on the board in an inspiring company.
LOCATION:Rosenkildehuset, Strandkaien 6, 4005 Stavanger
END:VEVENT


END:VCALENDAR



