
BEGIN:VCALENDAR
VERSION:2.0
PRODID:-//MarkedsPartner AS//Umbraco CMS//NO
TIMEZONE-ID:Europe/Oslo
X-WR-TIMEZONE:Europe/Oslo


BEGIN:VEVENT
UID:9e0f54960d414b72b1c50c1a92e62a79
URL:https://stavangernaering-2023.azurewebsites.net/en/events/archive/join-us-for-a-midday-cruise-to-ryfylke/
ORGANIZER;CN=Ola Normann:MAILTO:ola.normann@markedspartner.no
DTSTAMP:20240518T080000Z
DTSTART:20240518T080000Z
DTEND:20240518T123000Z
LAST-MODIFIED:20240521T083126Z
SUMMARY:Fjord cruise to Ryfylke and Hjelmeland!
DESCRIPTION:Picture this: sailing through majestic fjords, exploring charming islands, and soaking up the breathtaking scenery.
X-ALT-DESC:Picture this: sailing through majestic fjords, exploring charming islands, and soaking up the breathtaking scenery.
LOCATION:Ryfylke
END:VEVENT


END:VCALENDAR



