
BEGIN:VCALENDAR
VERSION:2.0
PRODID:-//MarkedsPartner AS//Umbraco CMS//NO
TIMEZONE-ID:Europe/Oslo
X-WR-TIMEZONE:Europe/Oslo


BEGIN:VEVENT
UID:6b21fa317bc34d0aa68a065c1ca4fd05
URL:https://stavangernaering-2023.azurewebsites.net/en/events/archive/job-search_may-2022/
ORGANIZER;CN=Ola Normann:MAILTO:ola.normann@markedspartner.no
DTSTAMP:20220504T073000Z
DTSTART:20220504T073000Z
DTEND:20220504T093000Z
LAST-MODIFIED:20220513T111203Z
SUMMARY:Job Search: Preparing for an interview
DESCRIPTION:The Job Search meeting series is an offer for everyone who recently arrived to the Stavanger-region, and want to learn more about job opportunities and working conditions.  We will invite speakers that would cover different aspects of working in Norway.
X-ALT-DESC:The Job Search meeting series is an offer for everyone who recently arrived to the Stavanger-region, and want to learn more about job opportunities and working conditions.  We will invite speakers that would cover different aspects of working in Norway.
LOCATION:Rosenkildehuset, Strandkaien 6, 4005 Stavanger
END:VEVENT


END:VCALENDAR



