
BEGIN:VCALENDAR
VERSION:2.0
PRODID:-//MarkedsPartner AS//Umbraco CMS//NO
TIMEZONE-ID:Europe/Oslo
X-WR-TIMEZONE:Europe/Oslo


BEGIN:VEVENT
UID:c97c6692b5454efbaeb8ceffcd263b52
URL:https://stavangernaering-2023.azurewebsites.net/en/events/archive/job-search_may-2022-1/
ORGANIZER;CN=Ola Normann:MAILTO:ola.normann@markedspartner.no
DTSTAMP:20220511T110000Z
DTSTART:20220511T110000Z
DTEND:20220511T123000Z
LAST-MODIFIED:20220513T095251Z
SUMMARY:POSTPONED: Job Search: Work environment and culture
DESCRIPTION:The Job Search meeting series is an offer for everyone who recently arrived to the Stavanger-region, and want to learn more about job opportunities and working conditions.  We will invite speakers that would cover different aspects of working in Norway.
X-ALT-DESC:The Job Search meeting series is an offer for everyone who recently arrived to the Stavanger-region, and want to learn more about job opportunities and working conditions.  We will invite speakers that would cover different aspects of working in Norway.
LOCATION:Rosenkildehuset, Strandkaien 6, 4005 Stavanger
END:VEVENT


END:VCALENDAR



