
BEGIN:VCALENDAR
VERSION:2.0
PRODID:-//MarkedsPartner AS//Umbraco CMS//NO
TIMEZONE-ID:Europe/Oslo
X-WR-TIMEZONE:Europe/Oslo


BEGIN:VEVENT
UID:7a5900f5afa24bff83d4b5bb6178684d
URL:https://stavangernaering-2023.azurewebsites.net/en/events/archive/job-search_march-2023/
ORGANIZER;CN=Ola Normann:MAILTO:ola.normann@markedspartner.no
DTSTAMP:20230324T083000Z
DTSTART:20230324T083000Z
DTEND:20230324T100000Z
LAST-MODIFIED:20230324T111814Z
SUMMARY:Job Search and Career: CV and interview technique
DESCRIPTION:What constitutes a good CV can vary from job to job. Today's JOB SEARCH will be about how you can create a good CV adapted to the jobs you are applying for.
X-ALT-DESC:What constitutes a good CV can vary from job to job. Today&#39;s JOB SEARCH will be about how you can create a good CV adapted to the jobs you are applying for.
LOCATION:Rosenkildehuset, Strandkaien 6, 4005 Stavanger
END:VEVENT


END:VCALENDAR



