
BEGIN:VCALENDAR
VERSION:2.0
PRODID:-//MarkedsPartner AS//Umbraco CMS//NO
TIMEZONE-ID:Europe/Oslo
X-WR-TIMEZONE:Europe/Oslo


BEGIN:VEVENT
UID:7a94609a3a6f4b3fb354fda55e1aacee
URL:https://stavangernaering-2023.azurewebsites.net/en/events/archive/job-search_feb-2023/
ORGANIZER;CN=Ola Normann:MAILTO:ola.normann@markedspartner.no
DTSTAMP:20230214T083000Z
DTSTART:20230214T083000Z
DTEND:20230214T100000Z
LAST-MODIFIED:20230215T090520Z
SUMMARY:Job Search and Career: Gender equality in employment
DESCRIPTION:Talent has no gender! Join our discussion on Gender equality in recruitment and career progressions.
X-ALT-DESC:Talent has no gender! Join our discussion on Gender equality in recruitment and career progressions.
LOCATION:Rosenkildehuset, Strandkaien 6, 4005 Stavanger
END:VEVENT


END:VCALENDAR



