
BEGIN:VCALENDAR
VERSION:2.0
PRODID:-//MarkedsPartner AS//Umbraco CMS//NO
TIMEZONE-ID:Europe/Oslo
X-WR-TIMEZONE:Europe/Oslo


BEGIN:VEVENT
UID:691bcf56f5e3451b83fde9ad626d4b32
URL:https://stavangernaering-2023.azurewebsites.net/en/events/archive/job-search_feb-2023-1/
ORGANIZER;CN=Ola Normann:MAILTO:ola.normann@markedspartner.no
DTSTAMP:20230203T083000Z
DTSTART:20230203T083000Z
DTEND:20230203T100000Z
LAST-MODIFIED:20230203T131416Z
SUMMARY:Job Search and Career
DESCRIPTION:Get updated on CV registration, labour market and active business networking!
X-ALT-DESC:Get updated on CV registration, labour market and active business networking!
LOCATION:Rosenkildehuset, Strandkaien 6, 4005 Stavanger
END:VEVENT


END:VCALENDAR



