
BEGIN:VCALENDAR
VERSION:2.0
PRODID:-//MarkedsPartner AS//Umbraco CMS//NO
TIMEZONE-ID:Europe/Oslo
X-WR-TIMEZONE:Europe/Oslo


BEGIN:VEVENT
UID:ed0665a956d94a518968f9815fee0a59
URL:https://stavangernaering-2023.azurewebsites.net/en/events/archive/job-search_april-2022/
ORGANIZER;CN=Ola Normann:MAILTO:ola.normann@markedspartner.no
DTSTAMP:20220427T073000Z
DTSTART:20220427T073000Z
DTEND:20220427T093000Z
LAST-MODIFIED:20220427T134041Z
SUMMARY:Job Search: Labor Market Update
DESCRIPTION:The Job Search meeting series is an offer for everyone who recently arrived to the Stavanger-region, and want to learn more about job opportunities and working conditions.  We will invite speakers that would cover different aspects of working in Norway.
X-ALT-DESC:The Job Search meeting series is an offer for everyone who recently arrived to the Stavanger-region, and want to learn more about job opportunities and working conditions.  We will invite speakers that would cover different aspects of working in Norway.
LOCATION:Rosenkildehuset, Strandkaien 6, 4005 Stavanger
END:VEVENT


END:VCALENDAR



