
BEGIN:VCALENDAR
VERSION:2.0
PRODID:-//MarkedsPartner AS//Umbraco CMS//NO
TIMEZONE-ID:Europe/Oslo
X-WR-TIMEZONE:Europe/Oslo


BEGIN:VEVENT
UID:f16d6615b7564f5b94241e409da30e33
URL:https://stavangernaering-2023.azurewebsites.net/en/events/archive/job-search_211022/
ORGANIZER;CN=Ola Normann:MAILTO:ola.normann@markedspartner.no
DTSTAMP:20221021T073000Z
DTSTART:20221021T073000Z
DTEND:20221021T090000Z
LAST-MODIFIED:20221021T142344Z
SUMMARY:Job Search:  Labour Law and Interview Techniques
DESCRIPTION:The Job Search meeting series is an offer for everyone who has recently arrived in the Stavanger region and is eager to learn more about job opportunities and working conditions here. We invite speakers who will open you up to different aspects of the work sphere in Norway.
X-ALT-DESC:The Job Search meeting series is an offer for everyone who has recently arrived in the Stavanger region and is eager to learn more about job opportunities and working conditions here. We invite speakers who will open you up to different aspects of the work sphere in Norway.
LOCATION:Rosenkildehuset, Strandkaien 6, 4005 Stavanger
END:VEVENT


END:VCALENDAR



