
BEGIN:VCALENDAR
VERSION:2.0
PRODID:-//MarkedsPartner AS//Umbraco CMS//NO
TIMEZONE-ID:Europe/Oslo
X-WR-TIMEZONE:Europe/Oslo


BEGIN:VEVENT
UID:a837fa1f419b4de4829e15d08c583fd1
URL:https://stavangernaering-2023.azurewebsites.net/en/events/archive/job-search_181122/
ORGANIZER;CN=Ola Normann:MAILTO:ola.normann@markedspartner.no
DTSTAMP:20221118T083000Z
DTSTART:20221118T083000Z
DTEND:20221118T100000Z
LAST-MODIFIED:20221119T063718Z
SUMMARY:Job Search: Cultural awareness
DESCRIPTION:Learn about The Norwegian culture, and how you understand the unwritten "laws" of communication.
X-ALT-DESC:Learn about The Norwegian culture, and how you understand the unwritten &quot;laws&quot; of communication.
LOCATION:Rosenkildehuset, Strandkaien 6, 4005 Stavanger
END:VEVENT


END:VCALENDAR



