
BEGIN:VCALENDAR
VERSION:2.0
PRODID:-//MarkedsPartner AS//Umbraco CMS//NO
TIMEZONE-ID:Europe/Oslo
X-WR-TIMEZONE:Europe/Oslo


BEGIN:VEVENT
UID:f164bc41e0f04924809dfa3dc529f2c9
URL:https://stavangernaering-2023.azurewebsites.net/en/events/archive/job-search_160922/
ORGANIZER;CN=Ola Normann:MAILTO:ola.normann@markedspartner.no
DTSTAMP:20220916T073000Z
DTSTART:20220916T073000Z
DTEND:20220916T090000Z
LAST-MODIFIED:20220916T114137Z
SUMMARY:Job Search:  The searching process
DESCRIPTION:How does the job search process work in Norway?
X-ALT-DESC:How does the job search process work in Norway?
LOCATION:Rosenkildehuset, Strandkaien 6, 4005 Stavanger
END:VEVENT


END:VCALENDAR



