
BEGIN:VCALENDAR
VERSION:2.0
PRODID:-//MarkedsPartner AS//Umbraco CMS//NO
TIMEZONE-ID:Europe/Oslo
X-WR-TIMEZONE:Europe/Oslo


BEGIN:VEVENT
UID:4f5ebe25cb9747df8ed7972500f26b80
URL:https://stavangernaering-2023.azurewebsites.net/en/events/archive/job-search-and-career_sept-24/
ORGANIZER;CN=Ola Normann:MAILTO:ola.normann@markedspartner.no
DTSTAMP:20240920T073000Z
DTSTART:20240920T073000Z
DTEND:20240920T093000Z
LAST-MODIFIED:20240920T124047Z
SUMMARY:Job Search and Career: Knowing who you are
DESCRIPTION:Know yourself, your strengths and weaknesses! These are key elements to your job seeking journey and presenting yourself with confidence.
X-ALT-DESC:Know yourself, your strengths and weaknesses! These are key elements to your job seeking journey and presenting yourself with confidence.
LOCATION:Rosenkildehuset, Strandkaien 6, 4005 Stavanger
END:VEVENT


END:VCALENDAR



