
BEGIN:VCALENDAR
VERSION:2.0
PRODID:-//MarkedsPartner AS//Umbraco CMS//NO
TIMEZONE-ID:Europe/Oslo
X-WR-TIMEZONE:Europe/Oslo


BEGIN:VEVENT
UID:8f8962512bc9486390416a4a978bfe3c
URL:https://stavangernaering-2023.azurewebsites.net/en/events/archive/job-search-and-career_oktober23/
ORGANIZER;CN=Ola Normann:MAILTO:ola.normann@markedspartner.no
DTSTAMP:20231020T073000Z
DTSTART:20231020T073000Z
DTEND:20231020T093000Z
LAST-MODIFIED:20231020T132541Z
SUMMARY:Job search and Career: Get involved!
DESCRIPTION:Why is it important to volunteer, where can you contribute and what are the benefits?
X-ALT-DESC:Why is it important to volunteer, where can you contribute and what are the benefits?
LOCATION:Rosenkildehuset, Strandkaien 6, 4005 Stavanger
END:VEVENT


END:VCALENDAR



