
BEGIN:VCALENDAR
VERSION:2.0
PRODID:-//MarkedsPartner AS//Umbraco CMS//NO
TIMEZONE-ID:Europe/Oslo
X-WR-TIMEZONE:Europe/Oslo


BEGIN:VEVENT
UID:686d12c8641e4d3d94f49ba8151e88ff
URL:https://stavangernaering-2023.azurewebsites.net/en/events/archive/job-search-and-career_mar23/
ORGANIZER;CN=Ola Normann:MAILTO:ola.normann@markedspartner.no
DTSTAMP:20240315T083000Z
DTSTART:20240315T083000Z
DTEND:20240315T103000Z
LAST-MODIFIED:20240411T071439Z
SUMMARY:POSTPONED: Job search and Career: CV and interview technique 
DESCRIPTION:What constitutes a good CV can vary from job to job. Today's JOB SEARCH will be about how you can create a good CV adapted to the jobs you are applying for.
X-ALT-DESC:What constitutes a good CV can vary from job to job. Today&#39;s JOB SEARCH will be about how you can create a good CV adapted to the jobs you are applying for.
LOCATION:Rosenkildehuset, Strandkaien 6, 4005 Stavanger
END:VEVENT


END:VCALENDAR



