
BEGIN:VCALENDAR
VERSION:2.0
PRODID:-//MarkedsPartner AS//Umbraco CMS//NO
TIMEZONE-ID:Europe/Oslo
X-WR-TIMEZONE:Europe/Oslo


BEGIN:VEVENT
UID:cd6372d871d84e1dbdf1f18e2e3bf440
URL:https://stavangernaering-2023.azurewebsites.net/en/events/archive/job-search-and-career_mai25/
ORGANIZER;CN=Ola Normann:MAILTO:ola.normann@markedspartner.no
DTSTAMP:20250516T073000Z
DTSTART:20250516T073000Z
DTEND:20250516T093000Z
LAST-MODIFIED:20250516T122639Z
SUMMARY:Job search and career: Labour Law
DESCRIPTION:The labour movement in particular has played an important role in ensuring democracy, economic growth, gender parity, balanced redistribution and safety for all citizens. Come learn the basics of the Norwegian labor law.
X-ALT-DESC:The labour movement in particular has played an important role in ensuring democracy, economic growth, gender parity, balanced redistribution and safety for all citizens. Come learn the basics of the Norwegian labor law.
LOCATION:Rosenkildehuset, Strandkaien 6, SVG
END:VEVENT


END:VCALENDAR



