
BEGIN:VCALENDAR
VERSION:2.0
PRODID:-//MarkedsPartner AS//Umbraco CMS//NO
TIMEZONE-ID:Europe/Oslo
X-WR-TIMEZONE:Europe/Oslo


BEGIN:VEVENT
UID:0e7e27608f0240de9e507865a82171e4
URL:https://stavangernaering-2023.azurewebsites.net/en/events/archive/job-search-and-career_feb23/
ORGANIZER;CN=Ola Normann:MAILTO:ola.normann@markedspartner.no
DTSTAMP:20240223T083000Z
DTSTART:20240223T083000Z
DTEND:20240223T103000Z
LAST-MODIFIED:20240223T114433Z
SUMMARY:Job search and career: Employer Expectations
DESCRIPTION:Welcome to an insightful seminar featuring career coach Saira Khursheed. With extensive experience in the Stavanger job market and a focus on helping immigrants integrate into the local business scene, Saira will share practical tips on meeting employer expectations.
X-ALT-DESC:Welcome to an insightful seminar featuring career coach Saira Khursheed. With extensive experience in the Stavanger job market and a focus on helping immigrants integrate into the local business scene, Saira will share practical tips on meeting employer expectations.
LOCATION:Rosenkildehuset, Strandkaien 6, 4005 Stavanger
END:VEVENT


END:VCALENDAR



