
BEGIN:VCALENDAR
VERSION:2.0
PRODID:-//MarkedsPartner AS//Umbraco CMS//NO
TIMEZONE-ID:Europe/Oslo
X-WR-TIMEZONE:Europe/Oslo


BEGIN:VEVENT
UID:445375630c834e7381a28548b1990a3a
URL:https://stavangernaering-2023.azurewebsites.net/en/events/archive/job-search-and-career_apr24/
ORGANIZER;CN=Ola Normann:MAILTO:ola.normann@markedspartner.no
DTSTAMP:20240405T073000Z
DTSTART:20240405T073000Z
DTEND:20240405T093000Z
LAST-MODIFIED:20240405T113036Z
SUMMARY:Job search and Career: Network
DESCRIPTION:A session on how to build a strategic network in Norway.
X-ALT-DESC:A session on how to build a strategic network in Norway.
LOCATION:Rosenkildehuset, Strandkaien 6, 4005 Stavanger
END:VEVENT


END:VCALENDAR



