
BEGIN:VCALENDAR
VERSION:2.0
PRODID:-//MarkedsPartner AS//Umbraco CMS//NO
TIMEZONE-ID:Europe/Oslo
X-WR-TIMEZONE:Europe/Oslo


BEGIN:VEVENT
UID:01e4398f647d4e049d0847168b803b25
URL:https://stavangernaering-2023.azurewebsites.net/en/events/archive/job-search-and-career_130325/
ORGANIZER;CN=Ola Normann:MAILTO:ola.normann@markedspartner.no
DTSTAMP:20250313T080000Z
DTSTART:20250313T080000Z
DTEND:20250313T093000Z
LAST-MODIFIED:20250313T155233Z
SUMMARY:Job search and career: Interview
DESCRIPTION:Interviews are your chance to make a lasting impression and show why you’re the best fit for a role. In this session, you will learn how to confidently navigate interviews and answer questions authentically.
X-ALT-DESC:Interviews are your chance to make a lasting impression and show why you’re the best fit for a role. In this session, you will learn how to confidently navigate interviews and answer questions authentically.
LOCATION:Rosenkildehuset
END:VEVENT


END:VCALENDAR



