
BEGIN:VCALENDAR
VERSION:2.0
PRODID:-//MarkedsPartner AS//Umbraco CMS//NO
TIMEZONE-ID:Europe/Oslo
X-WR-TIMEZONE:Europe/Oslo


BEGIN:VEVENT
UID:5811e0b172f14855a8b43c4bc92543dd
URL:https://stavangernaering-2023.azurewebsites.net/en/events/archive/job-search-and-career_130225/
ORGANIZER;CN=Ola Normann:MAILTO:ola.normann@markedspartner.no
DTSTAMP:20250218T074500Z
DTSTART:20250218T074500Z
DTEND:20250218T091500Z
LAST-MODIFIED:20250218T181050Z
SUMMARY:Job Search and Career: Optimize your CV 
DESCRIPTION:Join us for a practical and valuable session on how to optimize your CV and LinkedIn profile specifically for the Norwegian job market.
X-ALT-DESC:Join us for a practical and valuable session on how to optimize your CV and LinkedIn profile specifically for the Norwegian job market.
LOCATION:Rosenkildehuset
END:VEVENT


END:VCALENDAR



