
BEGIN:VCALENDAR
VERSION:2.0
PRODID:-//MarkedsPartner AS//Umbraco CMS//NO
TIMEZONE-ID:Europe/Oslo
X-WR-TIMEZONE:Europe/Oslo


BEGIN:VEVENT
UID:82c15777eec349eab58755bbecc23757
URL:https://stavangernaering-2023.azurewebsites.net/en/events/archive/job-search-and-career-may-2023/
ORGANIZER;CN=Ola Normann:MAILTO:ola.normann@markedspartner.no
DTSTAMP:20230526T073000Z
DTSTART:20230526T073000Z
DTEND:20230526T090000Z
LAST-MODIFIED:20230526T110830Z
SUMMARY:Job search and career: Labour Law
DESCRIPTION:Come learn the basics of the Norwegain Labour Law with Daniel Gudbrandsen from LO Rogaland and hear about the job opportunities at Ex-tech Group.
X-ALT-DESC:Come learn the basics of the Norwegain Labour Law with Daniel Gudbrandsen from LO Rogaland and hear about the job opportunities at Ex-tech Group.
LOCATION:Rosenkildehuset, Strandkaien 6, SVG
END:VEVENT


END:VCALENDAR



