
BEGIN:VCALENDAR
VERSION:2.0
PRODID:-//MarkedsPartner AS//Umbraco CMS//NO
TIMEZONE-ID:Europe/Oslo
X-WR-TIMEZONE:Europe/Oslo


BEGIN:VEVENT
UID:8bff26a90964434f9c18e3608440cb4f
URL:https://stavangernaering-2023.azurewebsites.net/en/events/archive/job-search-and-career-april-2023/
ORGANIZER;CN=Ola Normann:MAILTO:ola.normann@markedspartner.no
DTSTAMP:20230421T073000Z
DTSTART:20230421T073000Z
DTEND:20230421T090000Z
LAST-MODIFIED:20230421T132056Z
SUMMARY:Job search and career: Face to face workshop 
DESCRIPTION:Get face to face time with the Stavanger Chamber of commerce and the possibility to ask questions you might have when it comes to acquiring a job in Norway.
X-ALT-DESC:Get face to face time with the Stavanger Chamber of commerce and the possibility to ask questions you might have when it comes to acquiring a job in Norway.
LOCATION:Rosenkildehuset, Strandkaien 6, 4005 Stavanger
END:VEVENT


END:VCALENDAR



