
BEGIN:VCALENDAR
VERSION:2.0
PRODID:-//MarkedsPartner AS//Umbraco CMS//NO
TIMEZONE-ID:Europe/Oslo
X-WR-TIMEZONE:Europe/Oslo


BEGIN:VEVENT
UID:6ad1b9b8f6714d73b5a2064d8b943973
URL:https://stavangernaering-2023.azurewebsites.net/en/events/archive/job-search-and-career-apr25/
ORGANIZER;CN=Ola Normann:MAILTO:ola.normann@markedspartner.no
DTSTAMP:20250425T073000Z
DTSTART:20250425T073000Z
DTEND:20250425T100000Z
LAST-MODIFIED:20250425T110757Z
SUMMARY:Job Search and Career: Karrieresenter and School Fair 
DESCRIPTION:We invite you to learn about Karrieresenter Rogaland and what competence their team has toward assisting you in your job search as well as the opportunity to get guidance and see possibilities at local academic institutions such as NOROFF and UiS.
X-ALT-DESC:We invite you to learn about Karrieresenter Rogaland and what competence their team has toward assisting you in your job search as well as the opportunity to get guidance and see possibilities at local academic institutions such as NOROFF and UiS.
LOCATION:Rosenkildehuset 
END:VEVENT


END:VCALENDAR



